BEGIN:VCALENDAR
VERSION:2.0
PRODID:-//eventon.com NONSGML v1.0//EN
CALSCALE:GREGORIAN
METHOD:PUBLISH
BEGIN:VEVENT
UID:69e7dd00c53e4
DTSTAMP:20260421T202432Z
DTSTART:20260328T200000Z
DTEND:20260328T220000Z
LOCATION:
SUMMARY:Belly Dancing
DESCRIPTION:Check out this group of very talented belly dancers and let the
 m take you back to a1001 nights fairy tale.\nhttps://guidonbrewing.com/even
 ts/belly-dancing/
URL:https://guidonbrewing.com/events/belly-dancing/
END:VEVENT
END:VCALENDAR